Workbook

Sheet 거래명세서
B1: 거 래 명 세 서 | J1: (공급받는자 보관용)
B2: 문서번호 | D2: TS-20261015-001 | G2: 거래일자 | I2: 46310
B3: 공 급 받 는 자 | C3: 상호 | D3: 서울상회 | G3: 공 급 자 | H3: 등록번호 | I3: 123-45-67890
C4: 등록번호 | D4: =IFERROR(INDEX(거래처!$B$6:$B$105,MATCH($D$3,거래처!$A$6:$A$105,0)),"") -> 234-56-78901 | H4: 상호 | I4: 스택식품 | K4: 성명 | L4: 박서준
C5: 담당자 | D5: =IFERROR(INDEX(거래처!$D$6:$D$105,MATCH($D$3,거래처!$A$6:$A$105,0)),"") -> 김민지 | H5: 주소 | I5: 서울특별시 ○○구 ○○로 25
C6: 연락처 | D6: =IFERROR(INDEX(거래처!$E$6:$E$105,MATCH($D$3,거래처!$A$6:$A$105,0)),"") -> 02-3333-4444 | H6: 업태 | I6: 도소매 | K6: 종목 | L6: 식자재
C7: 주소 | D7: =IFERROR(INDEX(거래처!$F$6:$F$105,MATCH($D$3,거래처!$A$6:$A$105,0)),"") -> 서울특별시 ○○구 ○○대로 1 | H7: 연락처 | I7: 02-1111-2222
B8: 합계금액 | D8: =I20+J20 -> 597000 | H8: 공급가액 + 세액 (부가세 포함)
B9: 월/일 | C9: 품목명 | E9: 규격 | F9: 단위 | G9: 수량 | H9: 단가 | I9: 공급가액 | J9: 세액 | K9: 비고
B10: =IF(C10="","",$I$2) -> 46310 | C10: 프리미엄 원두 | E10: =IFERROR(INDEX(품목!$B$6:$B$105,MATCH(C10,품목!$A$6:$A$105,0)),"") -> 1kg | F10: =IFERROR(INDEX(품목!$C$6:$C$105,MATCH(C10,품목!$A$6:$A$105,0)),"") -> 봉 | G10: 12 | H10: =IFERROR(INDEX(품목!$D$6:$D$105,MATCH(C10,품목!$A$6:$A$105,0)),"") -> 18500 | I10: =IF(OR(G10="",H10=""),"",G10*H10) -> 222000 | J10: =IF(I10="","",IF(IFERROR(INDEX(품목!$E$6:$E$105,MATCH(C10,품목!$A$6:$A$105,0)),"과세")="면세",0,ROUNDDOWN(I10*품목!$I$5,0))) -> 22200
B11: =IF(C11="","",$I$2) -> 46310 | C11: 테이크아웃 컵 | E11: =IFERROR(INDEX(품목!$B$6:$B$105,MATCH(C11,품목!$A$6:$A$105,0)),"") -> 13oz | F11: =IFERROR(INDEX(품목!$C$6:$C$105,MATCH(C11,품목!$A$6:$A$105,0)),"") -> 박스 | G11: 30 | H11: =IFERROR(INDEX(품목!$D$6:$D$105,MATCH(C11,품목!$A$6:$A$105,0)),"") -> 9600 | I11: =IF(OR(G11="",H11=""),"",G11*H11) -> 288000 | J11: =IF(I11="","",IF(IFERROR(INDEX(품목!$E$6:$E$105,MATCH(C11,품목!$A$6:$A$105,0)),"과세")="면세",0,ROUNDDOWN(I11*품목!$I$5,0))) -> 28800
B12: =IF(C12="","",$I$2) -> 46310 | C12: 계란 | E12: =IFERROR(INDEX(품목!$B$6:$B$105,MATCH(C12,품목!$A$6:$A$105,0)),"") -> 30구 | F12: =IFERROR(INDEX(품목!$C$6:$C$105,MATCH(C12,품목!$A$6:$A$105,0)),"") -> 판 | G12: 5 | H12: =IFERROR(INDEX(품목!$D$6:$D$105,MATCH(C12,품목!$A$6:$A$105,0)),"") -> 7200 | I12: =IF(OR(G12="",H12=""),"",G12*H12) -> 36000 | J12: =IF(I12="","",IF(IFERROR(INDEX(품목!$E$6:$E$105,MATCH(C12,품목!$A$6:$A$105,0)),"과세")="면세",0,ROUNDDOWN(I12*품목!$I$5,0))) -> 0 | K12: 면세
B13: =IF(C13="","",$I$2) | E13: =IFERROR(INDEX(품목!$B$6:$B$105,MATCH(C13,품목!$A$6:$A$105,0)),"") | F13: =IFERROR(INDEX(품목!$C$6:$C$105,MATCH(C13,품목!$A$6:$A$105,0)),"") | H13: =IFERROR(INDEX(품목!$D$6:$D$105,MATCH(C13,품목!$A$6:$A$105,0)),"") | I13: =IF(OR(G13="",H13=""),"",G13*H13) | J13: =IF(I13="","",IF(IFERROR(INDEX(품목!$E$6:$E$105,MATCH(C13,품목!$A$6:$A$105,0)),"과세")="면세",0,ROUNDDOWN(I13*품목!$I$5,0)))
B14: =IF(C14="","",$I$2) | E14: =IFERROR(INDEX(품목!$B$6:$B$105,MATCH(C14,품목!$A$6:$A$105,0)),"") | F14: =IFERROR(INDEX(품목!$C$6:$C$105,MATCH(C14,품목!$A$6:$A$105,0)),"") | H14: =IFERROR(INDEX(품목!$D$6:$D$105,MATCH(C14,품목!$A$6:$A$105,0)),"") | I14: =IF(OR(G14="",H14=""),"",G14*H14) | J14: =IF(I14="","",IF(IFERROR(INDEX(품목!$E$6:$E$105,MATCH(C14,품목!$A$6:$A$105,0)),"과세")="면세",0,ROUNDDOWN(I14*품목!$I$5,0)))
B15: =IF(C15="","",$I$2) | E15: =IFERROR(INDEX(품목!$B$6:$B$105,MATCH(C15,품목!$A$6:$A$105,0)),"") | F15: =IFERROR(INDEX(품목!$C$6:$C$105,MATCH(C15,품목!$A$6:$A$105,0)),"") | H15: =IFERROR(INDEX(품목!$D$6:$D$105,MATCH(C15,품목!$A$6:$A$105,0)),"") | I15: =IF(OR(G15="",H15=""),"",G15*H15) | J15: =IF(I15="","",IF(IFERROR(INDEX(품목!$E$6:$E$105,MATCH(C15,품목!$A$6:$A$105,0)),"과세")="면세",0,ROUNDDOWN(I15*품목!$I$5,0)))
B16: =IF(C16="","",$I$2) | E16: =IFERROR(INDEX(품목!$B$6:$B$105,MATCH(C16,품목!$A$6:$A$105,0)),"") | F16: =IFERROR(INDEX(품목!$C$6:$C$105,MATCH(C16,품목!$A$6:$A$105,0)),"") | H16: =IFERROR(INDEX(품목!$D$6:$D$105,MATCH(C16,품목!$A$6:$A$105,0)),"") | I16: =IF(OR(G16="",H16=""),"",G16*H16) | J16: =IF(I16="","",IF(IFERROR(INDEX(품목!$E$6:$E$105,MATCH(C16,품목!$A$6:$A$105,0)),"과세")="면세",0,ROUNDDOWN(I16*품목!$I$5,0)))
B17: =IF(C17="","",$I$2) | E17: =IFERROR(INDEX(품목!$B$6:$B$105,MATCH(C17,품목!$A$6:$A$105,0)),"") | F17: =IFERROR(INDEX(품목!$C$6:$C$105,MATCH(C17,품목!$A$6:$A$105,0)),"") | H17: =IFERROR(INDEX(품목!$D$6:$D$105,MATCH(C17,품목!$A$6:$A$105,0)),"") | I17: =IF(OR(G17="",H17=""),"",G17*H17) | J17: =IF(I17="","",IF(IFERROR(INDEX(품목!$E$6:$E$105,MATCH(C17,품목!$A$6:$A$105,0)),"과세")="면세",0,ROUNDDOWN(I17*품목!$I$5,0)))
B18: =IF(C18="","",$I$2) | E18: =IFERROR(INDEX(품목!$B$6:$B$105,MATCH(C18,품목!$A$6:$A$105,0)),"") | F18: =IFERROR(INDEX(품목!$C$6:$C$105,MATCH(C18,품목!$A$6:$A$105,0)),"") | H18: =IFERROR(INDEX(품목!$D$6:$D$105,MATCH(C18,품목!$A$6:$A$105,0)),"") | I18: =IF(OR(G18="",H18=""),"",G18*H18) | J18: =IF(I18="","",IF(IFERROR(INDEX(품목!$E$6:$E$105,MATCH(C18,품목!$A$6:$A$105,0)),"과세")="면세",0,ROUNDDOWN(I18*품목!$I$5,0)))
B19: =IF(C19="","",$I$2) | E19: =IFERROR(INDEX(품목!$B$6:$B$105,MATCH(C19,품목!$A$6:$A$105,0)),"") | F19: =IFERROR(INDEX(품목!$C$6:$C$105,MATCH(C19,품목!$A$6:$A$105,0)),"") | H19: =IFERROR(INDEX(품목!$D$6:$D$105,MATCH(C19,품목!$A$6:$A$105,0)),"") | I19: =IF(OR(G19="",H19=""),"",G19*H19) | J19: =IF(I19="","",IF(IFERROR(INDEX(품목!$E$6:$E$105,MATCH(C19,품목!$A$6:$A$105,0)),"과세")="면세",0,ROUNDDOWN(I19*품목!$I$5,0)))
B20: 계 | I20: =SUM(I10:I19) -> 546000 | J20: =SUM(J10:J19) -> 51000
B21: 전잔액 | D21: 420000 | E21: 금일 합계 | F21: =I20+J20 -> 597000 | H21: 입금액 | I21: 420000 | J21: 잔액 | K21: =N(D21)+F21-N(I21) -> 597000
B22: 비고 | D22: 납품 시 수량을 확인해 주세요.
B23: 위 품목과 수량을 확인하고 받았습니다. | I23: 인수자 | J23: (인)
B25: ✂ - - - - - - - - - - - - 자르는 선 - - - - - - - - - - - -
B27: 거 래 명 세 서 | J27: (공급자 보관용)
B28: 문서번호 | D28: =IF(D2="","",D2) -> TS-20261015-001 | G28: 거래일자 | I28: =IF(I2="","",I2) -> 46310
B29: 공 급 받 는 자 | C29: 상호 | D29: =IF(D3="","",D3) -> 서울상회 | G29: 공 급 자 | H29: 등록번호 | I29: =IF(I3="","",I3) -> 123-45-67890
C30: 등록번호 | D30: =IF(D4="","",D4) -> 234-56-78901 | H30: 상호 | I30: =IF(I4="","",I4) -> 스택식품 | K30: 성명 | L30: =IF(L4="","",L4) -> 박서준
C31: 담당자 | D31: =IF(D5="","",D5) -> 김민지 | H31: 주소 | I31: =IF(I5="","",I5) -> 서울특별시 ○○구 ○○로 25
C32: 연락처 | D32: =IF(D6="","",D6) -> 02-3333-4444 | H32: 업태 | I32: =IF(I6="","",I6) -> 도소매 | K32: 종목 | L32: =IF(L6="","",L6) -> 식자재
C33: 주소 | D33: =IF(D7="","",D7) -> 서울특별시 ○○구 ○○대로 1 | H33: 연락처 | I33: =IF(I7="","",I7) -> 02-1111-2222
B34: 합계금액 | D34: =I46+J46 -> 597000 | H34: 공급가액 + 세액 (부가세 포함)
B35: 월/일 | C35: 품목명 | E35: 규격 | F35: 단위 | G35: 수량 | H35: 단가 | I35: 공급가액 | J35: 세액 | K35: 비고
B36: =IF(B10="","",B10) -> 46310 | C36: =IF(C10="","",C10) -> 프리미엄 원두 | E36: =IF(E10="","",E10) -> 1kg | F36: =IF(F10="","",F10) -> 봉 | G36: =IF(G10="","",G10) -> 12 | H36: =IF(H10="","",H10) -> 18500 | I36: =IF(OR(G36="",H36=""),"",G36*H36) -> 222000 | J36: =IF(I36="","",IF(IFERROR(INDEX(품목!$E$6:$E$105,MATCH(C36,품목!$A$6:$A$105,0)),"과세")="면세",0,ROUNDDOWN(I36*품목!$I$5,0))) -> 22200 | K36: =IF(K10="","",K10)
B37: =IF(B11="","",B11) -> 46310 | C37: =IF(C11="","",C11) -> 테이크아웃 컵 | E37: =IF(E11="","",E11) -> 13oz | F37: =IF(F11="","",F11) -> 박스 | G37: =IF(G11="","",G11) -> 30 | H37: =IF(H11="","",H11) -> 9600 | I37: =IF(OR(G37="",H37=""),"",G37*H37) -> 288000 | J37: =IF(I37="","",IF(IFERROR(INDEX(품목!$E$6:$E$105,MATCH(C37,품목!$A$6:$A$105,0)),"과세")="면세",0,ROUNDDOWN(I37*품목!$I$5,0))) -> 28800 | K37: =IF(K11="","",K11)
B38: =IF(B12="","",B12) -> 46310 | C38: =IF(C12="","",C12) -> 계란 | E38: =IF(E12="","",E12) -> 30구 | F38: =IF(F12="","",F12) -> 판 | G38: =IF(G12="","",G12) -> 5 | H38: =IF(H12="","",H12) -> 7200 | I38: =IF(OR(G38="",H38=""),"",G38*H38) -> 36000 | J38: =IF(I38="","",IF(IFERROR(INDEX(품목!$E$6:$E$105,MATCH(C38,품목!$A$6:$A$105,0)),"과세")="면세",0,ROUNDDOWN(I38*품목!$I$5,0))) -> 0 | K38: =IF(K12="","",K12) -> 면세
B39: =IF(B13="","",B13) | C39: =IF(C13="","",C13) | E39: =IF(E13="","",E13) | F39: =IF(F13="","",F13) | G39: =IF(G13="","",G13) | H39: =IF(H13="","",H13) | I39: =IF(OR(G39="",H39=""),"",G39*H39) | J39: =IF(I39="","",IF(IFERROR(INDEX(품목!$E$6:$E$105,MATCH(C39,품목!$A$6:$A$105,0)),"과세")="면세",0,ROUNDDOWN(I39*품목!$I$5,0))) | K39: =IF(K13="","",K13)
B40: =IF(B14="","",B14) | C40: =IF(C14="","",C14) | E40: =IF(E14="","",E14) | F40: =IF(F14="","",F14) | G40: =IF(G14="","",G14) | H40: =IF(H14="","",H14) | I40: =IF(OR(G40="",H40=""),"",G40*H40) | J40: =IF(I40="","",IF(IFERROR(INDEX(품목!$E$6:$E$105,MATCH(C40,품목!$A$6:$A$105,0)),"과세")="면세",0,ROUNDDOWN(I40*품목!$I$5,0))) | K40: =IF(K14="","",K14)
B41: =IF(B15="","",B15) | C41: =IF(C15="","",C15) | E41: =IF(E15="","",E15) | F41: =IF(F15="","",F15) | G41: =IF(G15="","",G15) | H41: =IF(H15="","",H15) | I41: =IF(OR(G41="",H41=""),"",G41*H41) | J41: =IF(I41="","",IF(IFERROR(INDEX(품목!$E$6:$E$105,MATCH(C41,품목!$A$6:$A$105,0)),"과세")="면세",0,ROUNDDOWN(I41*품목!$I$5,0))) | K41: =IF(K15="","",K15)
B42: =IF(B16="","",B16) | C42: =IF(C16="","",C16) | E42: =IF(E16="","",E16) | F42: =IF(F16="","",F16) | G42: =IF(G16="","",G16) | H42: =IF(H16="","",H16) | I42: =IF(OR(G42="",H42=""),"",G42*H42) | J42: =IF(I42="","",IF(IFERROR(INDEX(품목!$E$6:$E$105,MATCH(C42,품목!$A$6:$A$105,0)),"과세")="면세",0,ROUNDDOWN(I42*품목!$I$5,0))) | K42: =IF(K16="","",K16)
B43: =IF(B17="","",B17) | C43: =IF(C17="","",C17) | E43: =IF(E17="","",E17) | F43: =IF(F17="","",F17) | G43: =IF(G17="","",G17) | H43: =IF(H17="","",H17) | I43: =IF(OR(G43="",H43=""),"",G43*H43) | J43: =IF(I43="","",IF(IFERROR(INDEX(품목!$E$6:$E$105,MATCH(C43,품목!$A$6:$A$105,0)),"과세")="면세",0,ROUNDDOWN(I43*품목!$I$5,0))) | K43: =IF(K17="","",K17)
B44: =IF(B18="","",B18) | C44: =IF(C18="","",C18) | E44: =IF(E18="","",E18) | F44: =IF(F18="","",F18) | G44: =IF(G18="","",G18) | H44: =IF(H18="","",H18) | I44: =IF(OR(G44="",H44=""),"",G44*H44) | J44: =IF(I44="","",IF(IFERROR(INDEX(품목!$E$6:$E$105,MATCH(C44,품목!$A$6:$A$105,0)),"과세")="면세",0,ROUNDDOWN(I44*품목!$I$5,0))) | K44: =IF(K18="","",K18)
B45: =IF(B19="","",B19) | C45: =IF(C19="","",C19) | E45: =IF(E19="","",E19) | F45: =IF(F19="","",F19) | G45: =IF(G19="","",G19) | H45: =IF(H19="","",H19) | I45: =IF(OR(G45="",H45=""),"",G45*H45) | J45: =IF(I45="","",IF(IFERROR(INDEX(품목!$E$6:$E$105,MATCH(C45,품목!$A$6:$A$105,0)),"과세")="면세",0,ROUNDDOWN(I45*품목!$I$5,0))) | K45: =IF(K19="","",K19)
B46: 계 | I46: =SUM(I36:I45) -> 546000 | J46: =SUM(J36:J45) -> 51000
B47: 전잔액 | D47: =IF(D21="","",D21) -> 420000 | E47: 금일 합계 | F47: =I46+J46 -> 597000 | H47: 입금액 | I47: =IF(I21="","",I21) -> 420000 | J47: 잔액 | K47: =N(D47)+F47-N(I47) -> 597000
B48: 비고 | D48: =IF(D22="","",D22) -> 납품 시 수량을 확인해 주세요.
B49: 위 품목과 수량을 확인하고 받았습니다. | I49: 인수자 | J49: (인)

Sheet 품목
A1: 품목 목록
A3: 거래명세서에서 품목명을 고르면 규격, 단위, 단가, 과세 여부를 이 표에서 가져옵니다. | H3: STACKCUBE TEMPLATE
A5: 품목명 | B5: 규격 | C5: 단위 | D5: 단가(부가세 별도) | E5: 과세구분 | F5: 메모 | H5: 부가세율 | I5: 0.1
A6: 프리미엄 원두 | B6: 1kg | C6: 봉 | D6: 18500 | E6: 과세 | H6: 세율은 이 시트 I5 셀에서 바꿉니다. 면세 품목은 과세구분을 '면세'로 두면 세액이 0원이 됩니다.
A7: 테이크아웃 컵 | B7: 13oz | C7: 박스 | D7: 9600 | E7: 과세 | F7: 1박스 1,000개
A8: 컵 뚜껑 | B8: 90파이 | C8: 박스 | D8: 8200 | E8: 과세
A9: 바닐라 시럽 | B9: 1L | C9: 병 | D9: 12000 | E9: 과세
A10: 계란 | B10: 30구 | C10: 판 | D10: 7200 | E10: 면세 | F10: 면세 품목 예시

Sheet 거래처
A1: 거래처 목록
A3: 거래명세서에서 공급받는 자 상호를 고르면 등록번호, 담당자, 연락처, 주소를 이 표에서 가져옵니다. | F3: STACKCUBE TEMPLATE
A5: 상호 | B5: 사업자등록번호 | C5: 대표자 | D5: 담당자 | E5: 연락처 | F5: 주소 | G5: 메모
A6: 서울상회 | B6: 234-56-78901 | C6: 이서울 | D6: 김민지 | E6: 02-3333-4444 | F6: 서울특별시 ○○구 ○○대로 1 | G6: 매주 화·금 납품
A7: 망원카페 | B7: 345-67-89012 | C7: 정망원 | D7: 정하늘 | E7: 010-2222-3333 | F7: 서울특별시 ○○구 ○○로 12 | G7: 오전 11시 이전 도착
A8: 한빛식당 | B8: 456-78-90123 | C8: 한빛나 | D8: 한빛나 | E8: 031-555-6666 | F8: 경기도 ○○시 ○○로 34 | G8: 월말 일괄 정산

Sheet 사용법
A1: 거래명세서 엑셀 양식
A3: A4 한 장에 공급받는자 보관용과 공급자 보관용이 함께 인쇄되는 거래명세서입니다. 위 장만 채우면 아래 장은 자동으로 따라갑니다. | G3: STACKCUBE TEMPLATE
A5: 처음 10분 사용 순서 | E5: 시트 구성
A6: 1 | B6: 거래명세서 시트의 공급자 칸에 우리 회사 정보를 한 번 입력합니다. | E6: 거래명세서 | F6: 인쇄용 양식입니다. 위 장에만 입력하세요.
A7: 2 | B7: 품목 시트에 자주 납품하는 품목과 단가, 과세구분을 정리합니다. | E7: 품목 | F7: 규격, 단위, 단가, 과세구분과 부가세율을 관리합니다.
A8: 3 | B8: 거래처 시트에 거래처 상호, 등록번호, 담당자, 주소를 정리합니다. | E8: 거래처 | F8: 공급받는 자 정보를 관리합니다.
A9: 4 | B9: 위 장(공급받는자 보관용)에서 상호와 품목을 고르고 수량만 입력합니다.
A10: 5 | B10: A4로 인쇄하거나 PDF로 저장해 보내고, 아래 장은 우리 보관용으로 둡니다.
A12: 실무 체크리스트
A13: □ | B13: 단가가 부가세 별도 기준인지 거래처와 먼저 맞춥니다.
A14: □ | B14: 세액은 품목별로 원 미만을 버려 계산합니다. 합계에 한 번 계산하는 방식과 몇 원 차이가 날 수 있습니다.
A15: □ | B15: 목록에 없는 품목은 품목명, 규격, 단위, 단가를 직접 입력해도 됩니다.
A16: □ | B16: 보내기 전에 받은 주문과 품목·수량을 한 번 대조합니다.
A17: □ | B17: 거래명세서는 세금계산서를 대신하지 않습니다. 세금계산서는 따로 발급합니다.
A19: 안내: 이 파일은 빠르게 업무 기준을 잡기 위한 템플릿입니다. 여러 명이 동시에 수정하거나 승인 이력, 권한, 자동 알림이 필요해지면 전용 시스템으로 옮기는 것이 좋습니다.

Sheet 이 템플릿의 한계
A1: 엑셀로 시작할 수 있는 일과, 시스템이 필요한 순간
A3: 업무가 커질수록 파일 하나로 관리하기 어려워지는 지점을 정리했습니다. | E3: STACKCUBE TEMPLATE
A5: 상황 | B5: 엑셀에서 생기는 문제 | C5: 시스템으로 옮길 때 좋아지는 점
A6: 이중 입력 | B6: 카톡·문자·메일로 받은 주문을 이 양식에 다시 입력해야 합니다. | C6: 확정한 주문에서 거래명세서가 바로 만들어집니다.
A7: 발송 기록 | B7: 언제 누구에게 어떤 명세서를 보냈는지 파일 밖에 흩어집니다. | C7: 보낸 시각과 받은 거래처가 주문마다 남습니다.
A8: 수정 | B8: 수량을 고치면 파일을 다시 만들어 다시 보내야 합니다. | C8: 고친 주문 기준으로 다시 만들고 링크로 보냅니다.
A9: 월말 대사 | B9: 거래처별 한 달 치 명세서를 모으려면 파일을 하나씩 엽니다. | C9: 거래처와 기간으로 주문과 금액을 모아 봅니다.
